Workbook
Name _Hlk15552984: 'CONTRATOS VIGENTES'!#REF!
Name _Hlk17450658: 'CONTRATOS VIGENTES'!#REF!
Name _Hlk37151723: 'CONTRATOS VIGENTES'!#REF!
Name _Hlk49318153: 'CONTRATOS VIGENTES'!#REF!
Name _Hlk49318739: 'CONTRATOS VIGENTES'!#REF!
Name _Hlk517961862: 'CONTRATOS VIGENTES'!#REF!
Name ac: 'TOTAL CONTRATOS'!#REF!

Sheet CONTRATOS VIGENTES
A1: CTO. U ORDEN No. | B1: MODALIDAD | C1: CONTRATISTA | D1: TIPO DE DOCUMENTO DE IDENTIDAD (NIT-CC-RUT) | E1: NUMERO DEL DOCUMENTO DE IDENTIDAD | F1: DV (digito Verificacion tributaria) | G1: OBJETO DEL CONTRATO U ORDEN | H1: DURACION INICIAL (meses, dias o año) | I1: FECHA DE FIRMA | J1: FECHA DE SUSCRIPCION ACTA DE INICIO EJECUCION | K1: FECHA DE TERMINACION INCLUIDAS PRORROGAS | L1: CDP No. | M1: FECHA CDP | N1: RUBRO/ RECURSO | O1: CT | P1: FECHA DEL REGISTRO PPTAL | Q1: VALOR INICIAL DEL CONTRATO | R1: FORMA DE PAGO | S1: ADICION (valor) | T1: PRORROGA (tiempo) | U1: OTROSI, SUSPENSION | V1: POLIZA CUMP | W1: CALIDAD DE LOS BIENES | X1: ANTIC. | Y1: S Y PRES | Z1: R.CIVIL EXTR | AA1: R.CIVIL MEDICA PROF | AB1: VALOR TOTAL CONTRATO U ORDEN (V/R INCIAL + ADICIONES) | AC1: VALOR EJECUTADO A LA FECHA A ABRIL 2022 | AD1: SALDO ABRIL 2022 | AE1: % EJECUCION FINANCIERA | AF1: % EJECUCION FISICA (Tiempo) | AG1: SUPERVISOR | AH1: NOMBRE SUPERVISOR | AI1: CEDULA DEL SUPERVISOR | AJ1: DV DIGITO | AK1: ACTA COMITÉ CONTRATOS (= o mayor a 5 SMMLV $4.542,630 y no mayor 2 meses) | AL1: FECHA ACTA DE LIQUIDACION DEL CONTRATO POR TERMINACION ANTICIPADA | AM1: DIRECCION Y/O TELEFONO DEL CONTRATISTA | AN1: CAPACIDAD DEL CONTRATISTA | AO1: FECHA NACIMIENTO DEL CONTRATISTA | AP1: EPS | AQ1: PENSIONES | AR1: FECHA AFILIACION ARL POSITIVA | AS1: PUBLICACION SECOP $Mayor a 50SMLMV | AT1: DURACION DIAS | AU1: FECHA RADICACION DOCUMENTOS | AV1: FECHA FIRMA D. GRAL | AW1: No. DIAS EN ELABORACION | AX1: APOYO / MISIONAL | AY1: FUENTE DE FINANCIAMIENTO FUNCIONAMIENTO Y/O INVERSION | AZ1: INTENSIDAD HORA MES | BA1: SOLICITUD DE VERIFICACION DE TITULIOS | BB1: FECHA DEL EXAMEN PREOCUPACIONAL | BC1: REQUISITOS PRECONTRACTUALES PENDIENTES (PA-CDJ-IN-001) | BD1: REQUISITOS PRECONTRACTUALES PENDIENTES POR PARTE EL CENTRO (PA-CDJ-IN-002) | BE1: FORMA DE CONTRATACION (Directa- Cerrada- Abierta)
A2: 105-2022 | B2: C.P.Servicios | C2: ZONA VIRTUAL S.A. | D2: NIT | E2: 811015354 | F2: 1 | G2: Prestar el servicio de acceso a la plataforma tecnológica para administración de pagos por medios electrónicos a través del Portal Web www.dermatologia.gov.co, según la solicitud de los usuarios de la E.S.E. Centro Dermatológico Federico Lleras Acosta. | H2: 12 MESES | I2: 44627 | J2: ='TOTAL CONTRATOS'!F107 -> 44643 | K2: ='TOTAL CONTRATOS'!G107 -> 45007 | L2: 202 | M2: 44620 | N2: A020202008003011 | O2: 277 | P2: 44643 | Q2: 13397004 | R2: pagos mensuales de $1.116.417 IVA incluido (mes vencido), previa presentación de la factura de venta con el lleno de los requisitos legales y presentación del informe de supervisión y cumplimiento expedido por el supervisor el cual deberá acompañarse por los anexos referidos al pago a los sistemas de seguridad social a los que se encuentra obligada(o) a cotizar (Certificación del revisor fiscal). | V2: 0.2 | W2: 0.1 | X2: * | Y2: * | Z2: * | AA2: * | AB2: =SUM(Q2) -> 13397004 | AC2: =+'TOTAL CONTRATOS'!#REF! -> #REF! | AD2: =SUM(AB2-AC2) -> #REF! | AE2: =SUM(AC2*100/AB2) -> #REF! | AF2: =+'TOTAL CONTRATOS'!#REF! -> #REF! | AG2: Profesional Universitario responsable del Area de Informatica | AH2: Juan Carlos Vasquez Ramirez | AI2: 80149659 | AJ2: 5 | AK2: Acta 12 del 01 de marzo de 2022 | AM2: Carrera 18 No. 93-25 Oficina 103 Telefono 4449662 | AN2: 250 SMLMV | AO2: NA | AP2: NA | AQ2: NA | AR2: NA | AS2: PENDIENTE | AT2: =+K2-J2 -> 364 | AU2: 44623 | AV2: 44624 | AW2: =IF(AV2="ANULADO","ANULADO",NETWORKDAYS.INTL(AU2,AV2)) -> 2 | AX2: APOYO | AY2: FUNCIONAMIENTO | AZ2: NA | BA2: ='TOTAL CONTRATOS'!#REF! -> #REF! | BB2: NA | BC2: ='TOTAL CONTRATOS'!#REF! -> #REF! | BD2: ='TOTAL CONTRATOS'!#REF! -> #REF! | BE2: Convocatoria Directa
A3: 031-2022 | B3: C.P.Servicios Médico Asistenciales | C3: XIMENA PAOLA BARRENECHE MEJIA | D3: CC | E3: 1065618276 | F3: 7 | G3: Prestar los servicios médicos asistenciales especializados en Dermatología, y participar en actividades académicas en las instalaciones de la Empresa Social del Estado Centro Dermatológico Federico Lleras Acosta, cuando sea convocado (a) | H3: 8 MESES | I3: 44587 | J3: ='TOTAL CONTRATOS'!F33 -> 44589 | K3: ='TOTAL CONTRATOS'!G33 -> 44922 | L3: 055 | M3: 44575 | N3: A02020200900301-20 | O3: 57 | P3: 44587 | Q3: 50000000 | R3: a. Un primer pago, desde la fecha de inicio hasta el día 20 del mes correspondiente. Mensualidades vencidas con corte los días 20 de cada mes. PARAGRAFO: hora consulta y por evento procedimientos, según tarifas establecidas por la Dirección General. | V3: 0.2 | W3: * | X3: * | Y3: * | Z3: * | AA3: 44941 | AB3: =SUM(Q3) -> 50000000 | AC3: =+'TOTAL CONTRATOS'!#REF! -> #REF! | AD3: =SUM(AB3-AC3) -> #REF! | AE3: =+AC3*100/AB3 -> #REF! | AF3: =+'TOTAL CONTRATOS'!#REF! -> #REF! | AG3: Subdirector (a) Técnico Cientifica (e) Medico Especialista, Coordinadora Medica Jefe Oficina de Docencia e Investigacion | AH3: Alvaro Jose Tovar Cock Marcela Soler Tovar Mauricio Alberto Angel Macias | AI3: 79.238.958 1.032.377.897 79.985.065 | AJ3: 0 5 2 | AK3: Servicio Misional | AM3: Carrera 13 Bis No. 110-58 Telefono: 3003799917 email: xpbarrenche@hotmail.com | AN3: NA | AO3: 33031 | AP3: EPS SANITAS | AQ3: PORVENIR | AR3: 44588 | AS3: PENDIENTE | AT3: 80 | AU3: 44582 | AV3: 44586 | AW3: =IF(AV3="ANULADO","ANULADO",NETWORKDAYS.INTL(AU3,AV3)) -> 3 | AX3: MISIONAL | AY3: INVERSION | AZ3: 80 | BA3: ='TOTAL CONTRATOS'!#REF! -> #REF! | BB3: 43841 | BC3: ='TOTAL CONTRATOS'!#REF! -> #REF! | BD3: ='TOTAL CONTRATOS'!#REF! -> #REF! | BE3: Convocatoria Directa
A4: 090-2022 | B4: C.P.Servicios Médico Asistenciales | C4: VICTORIA EUGENA FRANCO CORREA | D4: CC | E4: 52703106 | F4: 9 | G4: Prestar los servicios médicos asistenciales en consulta externa (modalidad presencial y Telemedicina) y/o procedimientos en la especialidad de Dermatología. Participar en actividades académicas en las instalaciones de la Empresa Social del Estado Centro Dermatológico Federico Lleras Acosta, cuando sea convocado (a). | H4: 8 MESES | I4: 44622 | J4: ='TOTAL CONTRATOS'!F92 -> 44624 | K4: ='TOTAL CONTRATOS'!G92 -> 44868 | L4: 203 | M4: 44620 | N4: A02020200900301-20 | O4: 193 | P4: 44623 | Q4: 80000000 | R4: a. Un primer pago, correspondiente desde la fecha de inicio de ejecución del contrato hasta el día 20 del mes correspondiente. b. Mensualidades vencidas con corte los días 20 de cada mes. PARAGRAFO PRIMERO: EL CENTRO cancelará la prestación de los servicios al CONTRATISTA, para lo cual tendrá en cuenta el número de pacientes atendidos por hora en consulta, y por evento se tendrá en cuenta el número y tipo de procedimientos, según tarifas establecidas por el Director General. La asistencia a Ateneo será reconocida sí cumple con 20 horas asistenciales semanales. PARAGRAFO SEGUNDO: Los pagos están sujetos a la presentación de la cuenta de cobro y del formato PA-CDJ-FO-011 Informe de supervisión y certificación de cumplimiento de contrato u orden, con los anexos referidos al pago a los sistemas de seguridad social a los que se encuentra obligado (a) a cotizar). | V4: 0.2 | W4: 0.1 | X4: * | Y4: * | Z4: * | AA4: 44747 | AB4: =+Q4 -> 80000000 | AC4: =+'TOTAL CONTRATOS'!#REF! -> #REF! | AD4: =SUM(AB4-AC4) -> #REF! | AE4: =SUM(AC4*100/AB4) -> #REF! | AF4: =+'TOTAL CONTRATOS'!#REF! -> #REF! | AG4: Subdirector Técnico Cientifico Medico Especialista, Coordinadora Medica (C.I. 46313 15 de junio /21) Jefe Oficina de Docencia e Investigacion | AH4: Fredy Mauricio Avila Marcela Soler Tovar Mauricio Alberto Angel Macias | AI4: 79.372.771 1.032.377.897 79.985.065 | AJ4: x 5 2 | AK4: Servicio Misional | AM4: Carrera 25 No. 45C-53 Apto. 5501 Telefono 3213712483 email: vefco79@hotmail.com | AN4: NA | AO4: 29026 | AP4: SANITAS EPS | AQ4: COLFONDOS | AR4: 44259 | AS4: PENDIENTE | AT4: =+K4-J4 -> 244 | AU4: 44622 | AV4: 44622 | AW4: =IF(AV4="ANULADO","ANULADO",NETWORKDAYS.INTL(AU4,AV4)) -> 1 | AX4: MISIONAL | AY4: INVERSION | AZ4: No registra en el contrato | BA4: ='TOTAL CONTRATOS'!#REF! -> #REF! | BB4: 44563 | BC4: ='TOTAL CONTRATOS'!#REF! -> #REF! | BD4: ='TOTAL CONTRATOS'!#REF! -> #REF! | BE4: Convocatoria Directa
A5: 097-2022 | B5: C.P.Servicios | C5: UPSISTEMAS SAS | D5: NIT | E5: 800105706 | F5: 5 | G5: Prestar el servicio de mantenimiento preventivo y correctivo de las UPS instaladas en la Empresa Social del Estado Centro Dermatológico “Federico Lleras Acosta”. | H5: 9 MESES | I5: 44623 | J5: ='TOTAL CONTRATOS'!F99 -> 44634 | K5: ='TOTAL CONTRATOS'!G99 -> 44908 | L5: 145 | M5: 44601 | N5: A020202008007015-20 | O5: 242 | P5: 44634 | Q5: 18165945 | R5: se hará en 2 pagos de igual valor previa presentación de factura con el lleno de los requisitos legales, certificación de paz y salvo de aportes al sistema de seguridad integral obligado a cotizar y demás parafiscales, junto con el informe de mantenimiento e informe de supervisión de este. El CENTRO consignará los pagos del contrato en una entidad financiera indicada por el proponente, donde éste posea una cuenta corriente o de ahorros, afiliada al sistema automático de pagos – SAP. | V5: 0.2 | W5: 0.1 | X5: * | Y5: * | Z5: * | AA5: * | AB5: =+Q5 -> 18165945 | AC5: =+'TOTAL CONTRATOS'!#REF! -> #REF! | AD5: 0 | AE5: =SUM(AC5*100/AB5) -> #REF! | AF5: =+'TOTAL CONTRATOS'!#REF! -> #REF! | AG5: Subdirector Administrativo y Financiero | AH5: Susana Valderrama Forero | AI5: 51736889 | AJ5: 5 | AK5: Acta 11 del 24 de febrero de 2022 | AM5: Calle 24 No. 95-12 Bodega 53 Telefono 7422333 gerencia@upsistemas.com | AN5: US$5,000,000 | AO5: NA | AP5: NA | AQ5: NA | AR5: NA | AS5: PENDIENTE | AT5: =+K5-J5 -> 274 | AU5: 44617 | AV5: 44622 | AW5: =IF(AV5="ANULADO","ANULADO",NETWORKDAYS.INTL(AU5,AV5)) -> 4 | AX5: APOYO | AY5: FUNCIONAMIENTO | AZ5: NA | BA5: ='TOTAL CONTRATOS'!#REF! -> #REF! | BB5: NA | BC5: ='TOTAL CONTRATOS'!#REF! -> #REF! | BD5: ='TOTAL CONTRATOS'!#REF! -> #REF! | BE5: Convocatoria Directa
A6: 028-2022 | B6: C.P.Servicios | C6: TRANSPORTE NUEVO RUMBO LTDA | D6: NIT | E6: 830021171 | F6: 2 | G6: Prestar el servicio de transporte terrestre especial a la E.S.E. Centro Dermatológico “Federico Lleras Acosta”, para el desplazamiento del (la) Director (a) General en desarrollo de las funciones propias de su cargo para adelantar y desarrollar eficiente y eficazmente sus actividades | H6: 6 MESES | I6: 44586 | J6: ='TOTAL CONTRATOS'!F30 -> 44587 | K6: ='TOTAL CONTRATOS'!G30 -> 44767 | L6: 012 | M6: 44568 | N6: A020202006006-20 | O6: P | P6: 44587 | Q6: 38886000 | R6: a. Un primer pago, desde la fecha de inicio de ejecución hasta el día 20 del mes correspondiente. b. Mensualidades vencidas al día 20 de cada mes. | V6: 0.2 | W6: 0.2 | X6: * | Y6: 0.05 | Z6: 0.1 | AA6: * | AB6: =SUM(Q6) -> 38886000 | AC6: =+'TOTAL CONTRATOS'!#REF! -> #REF! | AD6: =SUM(AB6-AC6) -> #REF! | AE6: =+AC6*100/AB6 -> #REF! | AF6: =+'TOTAL CONTRATOS'!#REF! -> #REF! | AG6: Subdirector Administrativo y Financiero | AH6: Susana Valderrama Forero | AI6: 51736889 | AJ6: 5 | AK6: P | AM6: Carerra 44 No.22A- 17 Piso Telefono 3680334 email: coordinacion@tnrumbo.com; comercializadora@tnrumbo.com | AN6: Sin limite de Cuantìa | AO6: NA | AP6: NA | AQ6: NA | AR6: NA | AS6: PENDIENTE | AT6: 141 | AU6: 44575 | AV6: 44586 | AW6: 5 | AX6: APOYO | AY6: FUNCIONAMIENTO | AZ6: NA | BA6: ='TOTAL CONTRATOS'!#REF! -> #REF! | BB6: NA | BC6: ='TOTAL CONTRATOS'!#REF! -> #REF! | BD6: ='TOTAL CONTRATOS'!#REF! -> #REF! | BE6: Convocatoria Cerrada 004 Sesion18 de enero de 2022
A7: 116-2022 | B7: C.Suministros | C7: TECTRONIKS SAS | D7: NIT | E7: 830054613 | F7: 8 | G7: Prestar los servicios de transporte terrestre de medicamentos, dermocosméticos, insumos medico quirúrgicos, dispositivos médicos, instrumental y material estéril, instrumental y material contaminado, muestras de Laboratorio y de Patología, documentación interna, entre otras, entre la sede de la Avenida Caracas ubicada en la Avenida 1 No. 13 A – 61 y la sede Chapinero ubicada en la Carrera 14 A # 58 A 29 de la E.S.E Centro Dermatológico “Federico Lleras Acosta”. | H7: 6 MESES | I7: 44644 | J7: ='TOTAL CONTRATOS'!F117 -> 44644 | K7: ='TOTAL CONTRATOS'!G117 -> 44918 | L7: 013 | M7: 44568 | N7: A02020200600501-20 | O7: 283 | P7: 44644 | Q7: 39681549 | R7: a) Un primer pago, correspondiente desde la fecha de inicio de ejecución del contrato hasta el día veinte (20) del mes correspondiente, previa presentación de la factura e informe de supervisión y cumplimiento con los anexos referidos al pago a los sistemas de seguridad social a los que se encuentra obligada a cotizar. b) Mensualidades vencidas con corte al día veinte (20) de cada mes, previa presentación de la factura e informe de supervisión y cumplimiento expedido por la supervisora, el cual deberá acompañarse por los soportes antes referidos en el literal a). PARÁGRAFO PRIMERO: El valor promedio mensual aceptado en la propuesta del contratista puede variar cuando existan recorridos no programados previamente autorizados por los supervisores del contrato, que de igual manera se pagarán con cargo al valor total del presenta contrato. PARÁGRAFO SEGUNDO: La ESE Centro Dermatológico “Federico Lleras Acosta” consignará los pagos del contrato en una Entidad Financiera indicada por el proponente, donde éste posea una cuenta corriente o de ahorros, afiliada al sistema automático de pagos - SAP. | V7: 0.2 | W7: 0.2 | X7: 0.1 | Y7: * | Z7: 0.1 | AA7: * | AB7: =SUM(Q7) -> 39681549 | AC7: =+'TOTAL CONTRATOS'!#REF! -> #REF! | AD7: =SUM(AB7-AC7) -> #REF! | AE7: =SUM(AC7*100/AB7) -> #REF! | AF7: =+'TOTAL CONTRATOS'!#REF! -> #REF! | AG7: Subdirector Administrativo y Financiero | AH7: Susana Valderrama Forero | AI7: 51736889 | AJ7: 5 | AK7: Acta 16 del 17 de marzo de 2022 | AM7: Carrera 22 No. 63C-27 Telefono 8030041 ext. 103 email: gerenciatectroniks@gmail.com | AN7: NA | AO7: NA | AP7: NA | AQ7: NA | AR7: NA | AS7: PENDIENTE | AT7: =+K7-J7 -> 274 | AU7: 44637 | AV7: 44643 | AW7: =IF(AV7="ANULADO","ANULADO",NETWORKDAYS.INTL(AU7,AV7)) -> 5 | AX7: APOYO | AY7: FUNCIONAMIENTO | AZ7: NA | BA7: ='TOTAL CONTRATOS'!#REF! -> #REF! | BB7: NA | BC7: ='TOTAL CONTRATOS'!#REF! -> #REF! | BD7: ='TOTAL CONTRATOS'!#REF! -> #REF! | BE7: Contratacion Cerrada 014
A8: 091-2022 | B8: C.P.Servicios | C8: SISTEMAS Y ASESORIAS DE COLOMBIA S.A. | D8: NIT | E8: 800149562 | F8: 0 | G8: Proveer la Actualización, el Mantenimiento y el Soporte, al Sistema de Información DINAMICA GERENCIAL en la versión Net más reciente liberada por EL CONTRATISTA para el motor SQLSERVER en los módulos de: Admisiones – Cartera – Modulo NIIF – Contratos – Facturación – Inventarios – Laboratorios – Pagos – Presupuestos públicos – Tesorería – Citas Médicas – Historias Clínicas – Costos Hospitalarios – Programación de cirugías – Gestión gerencial – Activos fijos – Nómina – Citas web – Programación de cirugías. | H8: 12 MESES | I8: 44622 | J8: ='TOTAL CONTRATOS'!F93 -> 44644 | K8: ='TOTAL CONTRATOS'!G93 -> 45008 | L8: 188 | M8: 44615 | N8: A020202008003011-20 | O8: 281 | P8: 44644 | Q8: 132625280 | R8: : a. Pagos mensuales por $ 11.052.106,67 IVA incluido, con corte a cada treinta días de iniciado del contrato, previa presentación de la factura e informe de supervisión y cumplimiento expedido por el supervisor, el cual deberá acompañarse por los anexos referidos al pago a los sistemas de seguridad social a los que se encuentra obligada(o) a cotizar (Certificación del revisor fiscal), este pago se realizará dentro de los treinta (30) días siguientes a la radicación de la documentación completa. PARÁFO PRIMERO: El CONTRATISTA, podrá ante el incumplimiento en los pagos por parte del CENTRO y pasados 15 días de la fecha pactada, y para preservar el equilibrio económico del proyecto, suspender sus actividades, sin que ello se configure como incumplimiento o suspensión del contrato, en este caso EL CENTRO, asumirá el costo y las condiciones de reinicio que serán acostadas mediante Otrosí. PARÁFO SEGUNDO: EL CONTRATISTA está obligado al cumplimiento del objeto del presente contrato, siempre que EL CENTRO cumpla sus correlativas obligaciones y los pagos se cumplan conforme a las condiciones comerciales establecidas. EL CENTRO, asumirá el costo y el cumplimiento de las condiciones de reinicio que se establecen en la propuesta. | V8: 0.2 | W8: 0.2 | X8: * | Y8: 0.05 | Z8: * | AA8: * | AB8: =+Q8 -> 132625280 | AC8: =+'TOTAL CONTRATOS'!#REF! -> #REF! | AD8: =SUM(AB8-AC8) -> #REF! | AE8: =SUM(AC8*100/AB8) -> #REF! | AF8: =+'TOTAL CONTRATOS'!#REF! -> #REF! | AG8: Profesional Universitario responsable del Area de Informatica | AH8: Juan Carlos Vasquez Ramirez | AI8: 80149659 | AJ8: 5 | AK8: Acta 11 del 24 de febrero de 2022 | AM8: Av. Cra. 45 no. 108-27 Telefono 7560520 oficina 1408 | AN8: 1.800 SMLMV | AO8: NA | AP8: NA | AQ8: NA | AR8: NA | AS8: PENDIENTE | AT8: =+K8-J8 -> 364 | AU8: 44617 | AV8: 44622 | AW8: =IF(AV8="ANULADO","ANULADO",NETWORKDAYS.INTL(AU8,AV8)) -> 4 | AX8: APOYO | AY8: FUNCIONAMIENTO | AZ8: NA | BA8: ='TOTAL CONTRATOS'!#REF! -> #REF! | BB8: NA | BC8: ='TOTAL CONTRATOS'!#REF! -> #REF! | BD8: ='TOTAL CONTRATOS'!#REF! -> #REF! | BE8: Convocatoria Directa
A9: 025-2022 | B9: C.P.Servicios | C9: SERVIESPECIALES S.A.S | D9: NIT | E9: 890331277 | F9: 2 | G9: Prestar los servicios especializados de aseo limpieza y cafetería; mantenimiento de áreas y oficinas, zonas comunes, zonas verdes, zonas sociales, jardineria de todas las áreas, cafetería y cocinas incluyendo el insumo de productos de aseo, propios para el desempeño de labores; y el lavado y desinfección de la ropa hospitalaria; de las sedes de la E.S.E Centro Dermatológico “Federico Lleras Acosta”; según las especificaciones de contenido técnico descritas en los términos de referencia | H9: 5 MESES | I9: 44586 | J9: ='TOTAL CONTRATOS'!F27 -> 44587 | K9: ='TOTAL CONTRATOS'!G27 -> 44737 | L9: 009 | M9: 44568 | N9: A02020200800503-20 | O9: P | P9: 44587 | Q9: 277283000 | R9: a. Mensualidades vencidas con corte al día 20 de cada mes, s, afiliada al sistema automático de pagos - SAP. | S9: 55456600 | V9: 0.2 | W9: 0.2 | X9: * | Y9: 0.05 | Z9: * | AA9: * | AB9: =SUM(Q9+S9) -> 332739600 | AC9: =+'TOTAL CONTRATOS'!#REF! -> #REF! | AD9: =SUM(AB9-AC9) -> #REF! | AE9: =SUM(AC9*100/AB9) -> #REF! | AF9: =+'TOTAL CONTRATOS'!#REF! -> #REF! | AG9: Subdirector Administrativo y Financiero | AH9: Susana Valderrama Forero | AI9: 51736889 | AJ9: 5 | AK9: P | AM9: Calle 23A Norte # 4N -11; Telefono : 6448400; Email: cgil@serviasesorias.com.co | AN9: Sin limite de cuantia | AO9: 22777 | AP9: NA | AQ9: NA | AR9: NA | AS9: PENDIENTE | AT9: =+K9-J9 -> 150 | AU9: 44376 | AV9: 44378 | AW9: =IF(AV9="ANULADO","ANULADO",NETWORKDAYS.INTL(AU9,AV9)) -> 3 | AX9: APOYO | AY9: FUNCIOAMEINTO | AZ9: na | BA9: ='TOTAL CONTRATOS'!#REF! -> #REF! | BB9: NA | BC9: ='TOTAL CONTRATOS'!#REF! -> #REF! | BD9: ='TOTAL CONTRATOS'!#REF! -> #REF! | BE9: Convocatoria Cerrada 001 sesion comité 18 de enero de 2022
A10: 064-2022 | B10: C.P.Servicios Médico Asistenciales | C10: SERGIO ANDRES REMOLINA GRANADOS | D10: CC | E10: 1049606765 | F10: 7 | G10: Prestar los servicios médicos asistenciales en la especialidad de Infectología para la emisión de conceptos de forma virtual para la Empresa Social del Estado Centro Dermatológico Federico Lleras Acosta. | H10: 08 MESES | I10: 44603 | J10: ='TOTAL CONTRATOS'!F67 -> 44609 | K10: ='TOTAL CONTRATOS'!G67 -> 44850 | L10: 074 | M10: 44580 | N10: A02020200900301-20 | O10: 137 | P10: 44608 | Q10: 21424000 | R10: a. Un primer pago, correspondiente desde la fecha de inicio de ejecución del contrato hasta el día 20 del mes correspondiente, previa presentación de la cuenta de cobro y/o factura e informe de supervisión y certificación de cumplimiento con los anexos referidos al pago a los sistemas de seguridad social a los que se encuentra obligada (o) a cotizar. b. Mensualidades vencidas con corte los días 20 de cada mes, previa presentación de la cuenta de cobro y/o factura e informe de supervisión y certificación de cumplimiento expedido por el (los) supervisor (es), el cual deberá acompañarse por los soportes antes referidos en el literal a). PARAGRAFO: EL CENTRO cancelará la prestación de los servicios a la CONTRATISTA, para lo cual tendrá en cuenta el número de pacientes atendidos por hora en consulta, y por evento se tendrá en cuenta el número y tipo de procedimientos, según tarifas establecidas por la Directora General. La asistencia a Ateneo será reconocida sí cumple con 20 horas asistenciales semanales. | V10: 0.2 | W10: 0.1 | X10: * | Y10: * | Z10: * | AA10: 44938 | AB10: =+Q10 -> 21424000 | AC10: =+'TOTAL CONTRATOS'!#REF! -> #REF! | AD10: =SUM(AB10-AC10) -> #REF! | AE10: =SUM(AC10*100/AB10) -> #REF! | AF10: =+'TOTAL CONTRATOS'!#REF! -> #REF! | AG10: Subdirector (a) Técnico Cientifica (e) Medico Especialista, Coordinadora Medica Jefe Oficina de Docencia e Investigacion | AH10: Alvaro Jose Tovar Cock Marcela Soler Tovar Mauricio Alberto Angel Macias | AI10: 79.238.958 1.032.377.897 79.985.065 | AJ10: 0 5 2 | AK10: Servicio Misional | AM10: Carrera 58 No. 119A-98 Edificio 3 APTO 1008 Lagos de Cordoba Telefono 3002033737 email: infectologiasas@gmail.com | AN10: NA | AO10: 31841 | AP10: EPS SANITAS | AQ10: COLFONDOS | AR10: 44609 | AS10: PENDIENTE | AT10: =+K10-J10 -> 241 | AU10: 44579 | AV10: 44587 | AW10: =IF(AV10="ANULADO","ANULADO",NETWORKDAYS.INTL(AU10,AV10)) -> 7 | AX10: MISIONAL | AY10: INVERSION | AZ10: virtual | BA10: ='TOTAL CONTRATOS'!#REF! -> #REF! | BB10: 44162 | BC10: ='TOTAL CONTRATOS'!#REF! -> #REF! | BD10: ='TOTAL CONTRATOS'!#REF! -> #REF! | BE10: Convocatoria Directa
A11: 034-2022 | B11: C.P.Servicios Médico Asistenciales | C11: SERGIO ANDRES AMAYA PEÑA | D11: CC | E11: 79627258 | F11: 2 | G11: Prestar los servicios médicos asistenciales en consulta externa y/o procedimientos en la especialidad de Dermatología, y participar en actividades académicas en las instalaciones de la Empresa Social del Estado Centro Dermatológico Federico Lleras Acosta, cuando sea convocado (a). | H11: 8 MESES | I11: 44587 | J11: ='TOTAL CONTRATOS'!F37 -> 44590 | K11: ='TOTAL CONTRATOS'!G37 -> 44945 | L11: 065 | M11: 44579 | N11: A02020200900301-20 | O11: 78 | P11: 44589 | Q11: 80000000 | R11: a. Un primer pago, desde la fecha de inicio hasta el día veinte (20) del mes correspondiente. Mensualidades vencidas con corte los días veinte (20) de cada mes. PARAGRAFO: hora consulta y por evento procedimientos, según tarifas establecidas por la Dirección General. | U11: Suspensión 1: El día 11 de abril de 2022, suspende la ejecución del contrato a partir del día 11 al 17 de abril, por motivo de índole personal. Reinicio 1: El día 18 de abril de 2022, reinicia la ejecución del contrato, se extiende la duración hasta el 05 de octubre de 2022. | V11: 0.2 | W11: 0.1 | X11: * | Y11: * | Z11: * | AA11: 44847 | AB11: =SUM(Q11) -> 80000000 | AC11: =+'TOTAL CONTRATOS'!#REF! -> #REF! | AD11: =SUM(AB11-AC11) -> #REF! | AE11: =SUM(AC11*100/AB11) -> #REF! | AF11: =+'TOTAL CONTRATOS'!#REF! -> #REF! | AG11: Subdirector (a) Técnico Cientifica (e) Medico Especialista, Coordinadora Medica Jefe Oficina de Docencia e Investigacion | AH11: Alvaro Jose Tovar Cock Marcela Soler Tovar Mauricio Alberto Angel Macias | AI11: 79.238.958 1.032.377.897 79.985.065 | AJ11: 0 5 2 | AK11: Servicio Misional | AM11: Calle 152 No. 48-04 Apto. 112 Mazuren Telefono: 3158923122 email: sergio_amaya2003@hotmail.com | AN11: NA | AO11: 27943 | AP11: EPS SANTIAS | AQ11: PORVENIR | AR11: 44588 | AS11: PENDIENTE | AT11: =+K11-J11 -> 355 | AU11: 44583 | AV11: 44587 | AW11: =IF(AV11="ANULADO","ANULADO",NETWORKDAYS.INTL(AU11,AV11)) -> 3 | AX11: MISIONAL | AY11: FUNCIONAMIENTO | AZ11: 80 | BA11: ='TOTAL CONTRATOS'!#REF! -> #REF! | BB11: 44493 | BC11: ='TOTAL CONTRATOS'!#REF! -> #REF! | BD11: ='TOTAL CONTRATOS'!#REF! -> #REF! | BE11: Convocatoria Directa
A12: 118-2022 | B12: C.P.Servicios | C12: SCHWIND LATIN S.A | D12: NIT | E12: 802015544 | F12: 1 | G12: Servicio de mantenimiento preventivo, correctivo, equipo laser CO2 Acupulse Lumenis del servicio de consulta externa del para el hospital universitario centro Dermatológico Federico Lleras Acosta E.S.E. “Federico Lleras Acosta”. | H12: 12 MESES | I12: 44648 | J12: ='TOTAL CONTRATOS'!F119 -> 44700 | K12: ='TOTAL CONTRATOS'!G119 -> 45064 | L12: 206 | M12: 44621 | N12: A020202008007015-20 | O12: 464 | P12: 44699 | Q12: 7282800 | R12: pagos posteriores a cada visita de mantenimiento preventivo previa presentación de factura de venta y recibido a satisfacción del servicio, por parte del supervisor del contrato mediante informe de supervisión, para pagar a treinta (30) días, anexando certificado del pago a los sistemas de seguridad social a los que se encuentra obligada a cotizar. | V12: 0.2 | W12: 0.1 | X12: * | Y12: * | Z12: 0.1 | AA12: * | AB12: =SUM(Q12) -> 7282800 | AC12: =+'TOTAL CONTRATOS'!#REF! -> #REF! | AD12: =SUM(AB12-AC12) -> #REF! | AE12: =SUM(AC12*100/AB12) -> #REF! | AF12: =+'TOTAL CONTRATOS'!#REF! -> #REF! | AG12: Subdirector Administrativo y Financiero | AH12: Susana Valderrama Forero | AI12: 51736889 | AJ12: 5 | AK12: Acta 13 del 03 de marzo de 2022 | AM12: CL 77 B No. 57 -141 OF 313 LGARCIA@ROCOL.COM.CO 3112280/3175140266 | AN12: 340 SMLMV | AO12: NA | AP12: NA | AQ12: NA | AR12: NA | AS12: PENDIENTE | AT12: =+K12-J12 -> 364 | AU12: 44624 | AV12: 44628 | AW12: =IF(AV12="ANULADO","ANULADO",NETWORKDAYS.INTL(AU12,AV12)) -> 3 | AX12: APOYO | AY12: FUNCIONAMIENTO | BA12: ='TOTAL CONTRATOS'!#REF! -> #REF! | BB12: NA | BC12: ='TOTAL CONTRATOS'!#REF! -> #REF! | BD12: ='TOTAL CONTRATOS'!#REF! -> #REF! | BE12: Convocatoria Directa
A13: 053-2022 | B13: C.P.Servicios | C13: SANDY JOHANA ALDANA PULIDO | D13: CC | E13: 52930801 | F13: 2 | G13: Prestar los servicios asistenciales como técnico en servicios farmacéuticos en el área de farmacia de la E.S.E Centro Dermatológico “Federico Lleras Acosta. | H13: ocho (8) meses | I13: 44594 | J13: ='TOTAL CONTRATOS'!F56 -> 44604 | K13: ='TOTAL CONTRATOS'!G56 -> 44845 | L13: 072 | M13: 44579 | N13: A02020200800309-20 | O13: 128 | P13: 44603 | Q13: 12646400 | R13: a. Un primer pago, desde la fecha de inicio hasta el día 20 del mes correspondiente. Mensualidades vencidas con corte los días 20 de cada mes. | V13: 0.2 | W13: 0.1 | X13: * | Y13: * | Z13: * | AA13: * | AB13: =SUM(Q13) -> 12646400 | AC13: =+'TOTAL CONTRATOS'!#REF! -> #REF! | AD13: =SUM(AB13-AC13) -> #REF! | AE13: =SUM(AC13*100/AB13) -> #REF! | AF13: =+'TOTAL CONTRATOS'!#REF! -> #REF! | AG13: Profesional Universitario, Quimica Farmaceutica | AH13: Claudia Patricia Acosta Mieles | AI13: 22732243 | AJ13: 4 | AK13: Servicio Misional | AM13: Carrera 69 D No. 3-80 Sur Telefono 3118571453 email: sandyaldana87@gmail.com | AN13: NA | AO13: 30167 | AP13: SALUD TOTAL | AQ13: COLFONDOS | AR13: 44604 | AS13: PENDIENTE | AT13: =+K13-J13 -> 241 | AU13: 44587 | AV13: 44587 | AW13: =IF(AV13="ANULADO","ANULADO",NETWORKDAYS.INTL(AU13,AV13)) -> 1 | AX13: APOYO | AY13: FUNCIONAMIENTO | AZ13: 160 | BA13: ='TOTAL CONTRATOS'!#REF! -> #REF! | BB13: 44512 | BC13: ='TOTAL CONTRATOS'!#REF! -> #REF! | BD13: ='TOTAL CONTRATOS'!#REF! -> #REF! | BE13: Convocatoria Directa
A14: 042-2022 | B14: C.P.Servicios | C14: ROSA OLINDA CALDERON PALACIOS | D14: CC | E14: 52558870 | F14: 6 | G14: Prestar el servicio de auxiliar de enfermería en el Area de Apoyo Diagnóstico- de la Subdirección Técnico-Científica en la atención al usuario, toma y preparación de las muestras y transcripción de resultados; en las diferentes sedes de la ESE Centro Dermatológico Federico Lleras Acosta | H14: 8 MESES | I14: 44589 | J14: ='TOTAL CONTRATOS'!F45 -> 44592 | K14: ='TOTAL CONTRATOS'!G45 -> 44834 | L14: 060 | M14: 44579 | N14: A02020200900301-20 | O14: 85 | P14: 44592 | Q14: 12654720 | R14: a. Un primer pago, correspondiente desde la fecha de inicio de ejecución del contrato hasta el día 20 del mes correspondiente. b. Mensualidades vencidas con corte los días 20 de cada mes. PARAGRAFO: Los pagos están sujetos a la presentación de la cuenta de cobro y del formato PA-CDJ-FO-011 Informe de supervisión y certificación de cumplimiento de contrato u orden, con los anexos referidos al pago a los sistemas de seguridad social a los que se encuentra obligado (a) a cotizar. | V14: 0.2 | W14: 0.1 | X14: * | Y14: * | Z14: * | AA14: * | AB14: =SUM(Q14) -> 12654720 | AC14: =+'TOTAL CONTRATOS'!#REF! -> #REF! | AD14: =SUM(AB14-AC14) -> #REF! | AE14: =SUM(AC14*100/AB14) -> #REF! | AF14: =+'TOTAL CONTRATOS'!#REF! -> #REF! | AG14: Profesional Especializada Coordinadora de Apoyo Diagnostico | AH14: Bibiana Chavarro Portillo | AI14: 53133739 | AJ14: 8 | AK14: Servicio Misional | AM14: Carrea 109 No. 77C-40 Telefono: 3178233049 email: ro.calderon.8@hotmail.com | AN14: NA | AO14: 26344 | AP14: EPS SANITAS | AQ14: PORVENIR | AR14: 44590 | AS14: PENDIENTE | AT14: =+K14-J14 -> 242 | AU14: 44583 | AV14: 44587 | AW14: 3 | AX14: APOYO | AY14: FUNCIONAMIENTO | AZ14: 160 | BA14: ='TOTAL CONTRATOS'!#REF! -> #REF! | BB14: 44201 | BC14: ='TOTAL CONTRATOS'!#REF! -> #REF! | BD14: ='TOTAL CONTRATOS'!#REF! -> #REF! | BE14: Convocatoria Directa
A15: 129-2022 | B15: C.P.Servicios | C15: ROCIO DE DIEGO SANCHEZ | D15: CC | E15: 51973314 | F15: 8 | G15: Prestar servicios profesionales de Psicología en apoyo a la Subdirección Técnico-Científica, para la atención de pacientes en consulta externa y actividades de capacitaciones a los usuarios que acuden a las instalaciones de la Empresa Social del Estado Centro Dermatológico Federico Lleras Acosta, cuando sea convocado (a). | H15: 8 MESES | I15: 44662 | J15: ='TOTAL CONTRATOS'!F129 -> 44679 | K15: ='TOTAL CONTRATOS'!G129 -> 44922 | L15: 252 | M15: 44645 | N15: A02020200900301-20 | O15: 355 | P15: 44672 | Q15: 8000000 | R15: a. Un primer pago, correspondiente desde la fecha de inicio de ejecución del contrato hasta el día 20 del mes correspondiente, previa presentación de la cuenta de cobro y/o factura e informe de supervisión y certificación de cumplimiento con los anexos referidos al pago a los sistemas de seguridad social a los que se encuentra obligada (o) a cotizar. b. Mensualidades vencidas con corte los días 20 de cada mes, previa presentación de la cuenta de cobro y/o factura e informe de supervisión certificación y cumplimiento expedido por la supervisora, el cual deberá acompañarse por los soportes antes referidos en el literal a). PARAGRAFO PRIMERO: EL CENTRO cancelará la prestación de los servicios al CONTRATISTA, para lo cual tendrá en cuenta el número de pacientes atendidos por hora en consulta, y por evento se tendrá en cuenta el número y tipo de procedimientos, según tarifas establecidas por la Dirección General | V15: 0.2 | W15: 0.1 | X15: * | Y15: * | Z15: * | AB15: =SUM(Q15) -> 8000000 | AC15: =+'TOTAL CONTRATOS'!#REF! -> #REF! | AD15: =SUM(AB15-AC15) -> #REF! | AE15: =+AC15*100/AB15 -> #REF! | AF15: =+'TOTAL CONTRATOS'!#REF! -> #REF! | AG15: Medico Especialista, Coordinadora Medica | AH15: Marcela Soler Tovar | AI15: 1032377897 | AJ15: 5 | AK15: Servicio Misional | AM15: Calle 169 A # 62-87 Apartamento 805 T1 Portales del Norte 3003214368 rociodds@gmail.com | AN15: NA | AO15: 24170 | AP15: COMPENSAR | AQ15: COLPENSIONES | AR15: 44672 | AS15: PENDIENTE | AT15: =+K15-J15 -> 243 | AU15: 44657 | AV15: 44659 | AW15: =IF(AV15="ANULADO","ANULADO",NETWORKDAYS.INTL(AU15,AV15)) -> 3 | AX15: MISIONAL | AY15: FUNCIONAMIENTO | AZ15: 5 HORAS SEMANALES | BA15: ='TOTAL CONTRATOS'!#REF! -> #REF! | BB15: 44506 | BC15: ='TOTAL CONTRATOS'!#REF! -> #REF! | BD15: ='TOTAL CONTRATOS'!#REF! -> #REF! | BE15: Convocatoria Directa
A16: 037-2022 | B16: C.P.Servicios | C16: ROARQUITECTOS EU | D16: NIT | E16: 900149461 | F16: 8 | G16: Prestar el servicio de mantenimiento integral (predictivo, preventivo y correctivo) de los bienes inmuebles y muebles (enseres y mobiliario), aire acondicionado, ubicados en las instalaciones del Centro Dermatológico Federico Lleras Acosta E.S.E. | H16: 6 MESES | I16: 44587 | J16: ='TOTAL CONTRATOS'!F40 -> 44588 | K16: ='TOTAL CONTRATOS'!G40 -> 44860 | L16: 015 | M16: 44568 | N16: A02020200800701-20 | O16: P | P16: 44588 | Q16: 280000000 | R16: Por el mantenimiento preventivo programado se pagará mensualmente DIECISIETE MILLONES QUINIENTOS MIL PESOS MCTE ($17.500.000) Incluyendo el IVA, de conformidad con los soportes de las actividades realizadas en los formatos indicados por el CENTRO. 2. El mantenimiento correctivo se pagará de conformidad con los valores y actividades de la lista contenida en la propuesta del contratista, según las ordenes de trabajos dados a través del supervisor mediante correo electrónico u orden directa, previa autorización de la Dirección General | V16: 0.2 | W16: 0.1 | X16: * | Y16: 0.1 | Z16: 0.05 | AA16: * | AB16: =SUM(Q16) -> 280000000 | AC16: =+'TOTAL CONTRATOS'!#REF! -> #REF! | AD16: =SUM(AB16-AC16) -> #REF! | AE16: =SUM(AC16*100/AB16) -> #REF! | AF16: =+'TOTAL CONTRATOS'!#REF! -> #REF! | AG16: Subdirector Administrativo y Financiero | AH16: Susana Valderrama Forero | AI16: 51736889 | AJ16: 5 | AK16: P | AM16: Calle 129 No. 54-75 Int 4 Apto 301 Telefono : 2261504 email: roarquitectos@gmail.com | AN16: NA | AO16: NA | AP16: NA | AQ16: NA | AR16: NA | AS16: PENDIENTE | AT16: =+K16-J16 -> 272 | AU16: 44568 | AV16: 44572 | AW16: =IF(AV16="ANULADO","ANULADO",NETWORKDAYS.INTL(AU16,AV16)) -> 3 | AX16: APOYO | AY16: FUNCIONAMIENTO | AZ16: NA | BA16: ='TOTAL CONTRATOS'!#REF! -> #REF! | BB16: NA | BC16: ='TOTAL CONTRATOS'!#REF! -> #REF! | BD16: ='TOTAL CONTRATOS'!#REF! -> #REF! | BE16: Convocatoria Cerrada 001 de 2022 sesiono el dia 18 de enero de 2022
A17: 136-2022 | B17: C.P.Servicios | C17: ROARQUITECTOS EU | D17: NIT | E17: 900149461 | F17: 8 | G17: Suministrar e instalar sistema de ventilación y equipo de aire acondicionado para las áreas de farmacia y cajas en la sede Chapinero de la E.S.E Hospital Universitario Centro Dermatológico Federico Lleras Acosta. | H17: 20 DÍAS | I17: 44685 | J17: ='TOTAL CONTRATOS'!F136 -> 44699 | K17: ='TOTAL CONTRATOS'!G136 -> 44719 | L17: 267 | M17: 44652 | N17: A020202008007011-20 | O17: P | P17: 44699 | Q17: 14770161 | R17: El valor del contrato se cancelará una vez finalizada la entrega, instalación y puesta en marcha de los equipos de aire acondicionado y sistema de ventilación de la propuesta y una vez recibido a conformidad por parte del supervisor del contrato y previa presentación de cuenta de cobro y/o factura e informe de supervisión y certificación de cumplimiento expedido por el supervisor con los anexos referidos al pago a los sistemas de seguridad social a los que se encuentra obligado a cotizar. | V17: 0.1 | W17: 0.1 | X17: * | Y17: 0.05 | Z17: 0.05 | AA17: * | AB17: =SUM(Q17) -> 14770161 | AC17: =+'TOTAL CONTRATOS'!#REF! -> #REF! | AD17: =SUM(AB17-AC17) -> #REF! | AE17: =+AC17*100/AB17 -> #REF! | AF17: =+'TOTAL CONTRATOS'!#REF! -> #REF! | AG17: Subdirector Administrativo y Financiero | AH17: Susana Valderrama Forero | AI17: 51736889 | AJ17: 5 | AK17: Acta 20 del 21 de abril de 2022 | AM17: Calle 129 No. 54-75 Int 4 Apto 301 Telefono: 2261504 email: roarquitectos@gmail.com | AN17: NA | AO17: NA | AP17: NA | AQ17: NA | AR17: NA | AS17: PENDIENTE | AT17: =+K17-J17 -> 20 | AU17: 44678 | AV17: 44683 | AW17: =IF(AV17="ANULADO","ANULADO",NETWORKDAYS.INTL(AU17,AV17)) -> 4 | AX17: APOYO | AY17: FUNCIONAMIENTO | AZ17: NA | BA17: ='TOTAL CONTRATOS'!#REF! -> #REF! | BB17: NA | BC17: ='TOTAL CONTRATOS'!#REF! -> #REF! | BD17: ='TOTAL CONTRATOS'!#REF! -> #REF! | BE17: Convocatoria Directa
A18: 085-2022 | B18: C.P.Servicios Médico Asistenciales | C18: RAQUEL REBECA ERASO BRAVO | D18: CC | E18: 30717477 | F18: 7 | G18: Prestar los servicios médicos asistenciales en consulta externa (modalidad presencial y Telemedicina) y/o procedimientos en la especialidad de Dermatología y participar en actividades académicas en las instalaciones de la Empresa Social del Estado Centro Dermatológico Federico Lleras Acosta, cuando sea convocado (a). | H18: 8 MESES | I18: 44620 | J18: ='TOTAL CONTRATOS'!F87 -> 44623 | K18: ='TOTAL CONTRATOS'!G87 -> 44867 | L18: 177 | M18: 44610 | N18: A02020200900301-20 | O18: 188 | P18: 44621 | Q18: 45000000 | R18: a. Un primer pago, correspondiente desde la fecha de inicio de ejecución del contrato hasta el día 20 del mes correspondiente. b. Mensualidades vencidas con corte los días 20 de cada mes. PARAGRAFO PRIMERO: EL CENTRO cancelará la prestación de los servicios al CONTRATISTA, para lo cual tendrá en cuenta el número de pacientes atendidos por hora en consulta, y por evento se tendrá en cuenta el número y tipo de procedimientos, según tarifas establecidas por el Director General. La asistencia a Ateneo será reconocida sí cumple con 20 horas asistenciales semanales. PARAGRAFO SEGUNDO: Los pagos están sujetos a la presentación de la cuenta de cobro y del formato PA-CDJ-FO-011 Informe de supervisión y certificación de cumplimiento de contrato u orden, con los anexos referidos al pago a los sistemas de seguridad social a los que se encuentra obligado (a) a cotizar). | V18: 0.2 | W18: 0.1 | X18: * | Y18: * | Z18: * | AA18: 44837 | AB18: =+Q18 -> 45000000 | AC18: =+'TOTAL CONTRATOS'!#REF! -> #REF! | AD18: =SUM(AB18-AC18) -> #REF! | AE18: =SUM(AC18*100/AB18) -> #REF! | AF18: =+'TOTAL CONTRATOS'!#REF! -> #REF! | AG18: Subdirector Técnico Cientifico Medico Especialista, Coordinadora Medica (C.I. 46313 15 de junio /21) Jefe Oficina de Docencia e Investigacion | AH18: Fredy Mauricio Avila Marcela Soler Tovar Mauricio Alberto Angel Macias | AI18: xxxxxxxxxx 1.032.377.897 79.985.065 | AJ18: x 5 2 | AK18: Servicio Misional | AM18: Calle 128 No. 18-48 la Calleja Telefono 3006188132 email: raquel352@gmail.com | AN18: NA | AO18: 21805 | AP18: NUEVA EPS | AQ18: PENSIONADA | AR18: 44622 | AS18: PENDIENTE | AT18: =+K18-J18 -> 244 | AU18: 44614 | AV18: 44620 | AW18: =IF(AV18="ANULADO","ANULADO",NETWORKDAYS.INTL(AU18,AV18)) -> 5 | AX18: MISIONAL | AY18: FUNCIONAMIENTO | AZ18: 80 HORAS | BA18: ='TOTAL CONTRATOS'!#REF! -> #REF! | BB18: 43816 | BC18: ='TOTAL CONTRATOS'!#REF! -> #REF! | BD18: ='TOTAL CONTRATOS'!#REF! -> #REF! | BE18: Convocatoria Directa
A19: 149-2022 | B19: C.P.Servicios | C19: PROFESIONALES GINECOLOGICOS S.A.S | D19: NIT | E19: 811001713 | F19: 1 | G19: Prestar el servicio de calibración del fotómetro UVB de la cámara de fototerapia National Biological y mantenimiento preventivo del equipo de Radiofrecuencia Ellman Pelleve-S5 del área de cirugía del Hospital Universitario Centro Dermatológico Federico Lleras Acosta E.S.E. | H19: 12 MESES | I19: 44713 | J19: ='TOTAL CONTRATOS'!F149 -> 44750 | K19: ='TOTAL CONTRATOS'!G149 -> 45114 | L19: 350 | M19: 44694 | N19: ='TOTAL CONTRATOS'!J149 -> A020202008007015-20 | O19: ='TOTAL CONTRATOS'!K149 -> 472 | P19: ='TOTAL CONTRATOS'!L149 -> 44747 | Q19: 2320500 | R19: El valor del presente contrato se cancelará posterior a cada visita de mantenimiento preventivo o calibración previa presentación de factura de venta y recibido a satisfacción del servicio, por parte del supervisor del contrato mediante informe de supervisión, para pagar a treinta (30) días, anexando certificado del pago a los sistemas de seguridad social a los que se encuentra obligada a cotizar. | V19: 0.2 | W19: 0.1 | X19: * | Y19: * | Z19: 0.1 | AA19: * | AB19: =SUM(Q19) -> 2320500 | AC19: =+'TOTAL CONTRATOS'!#REF! -> #REF! | AD19: =SUM(AB19-AC19) -> #REF! | AE19: =SUM(AC19*100/AB19) -> #REF! | AF19: 0 | AG19: Subdirector Administrativo y Financiero | AH19: Susana Valderrama Forero | AI19: 51736889 | AJ19: 5 | AK19: Acta 025 del 17/05/2022 | AM19: Calle 10 B 28 - 68 Medellin contabilidad@progyne.com servicialcliente@progyne.com 6042330808 | AN19: NA | AO19: NA | AP19: NA | AQ19: NA | AR19: NA | AS19: PENDIENTE | AT19: =+K19-J19 -> 364 | AU19: 44698 | AV19: 44706 | AW19: =IF(AV19="ANULADO","ANULADO",NETWORKDAYS.INTL(AU19,AV19)) -> 7 | AX19: APOYO | AY19: FUNCIONAMIENTO | AZ19: NA | BA19: NA | BB19: NA | BC19: Verificado 01 de junio de 2022 POLIZA ACUERDO, SARLAF, AUTORIZACION…. | BD19: Verificado el 01 de junio de 2022 Acta de Inicio | BE19: Convocatoria Directa
A20: 089-2022 | B20: C.P.Servicios Especializados | C20: PAULA XIMENA RODRIGUEZ MORALES | D20: CC | E20: 52429956 | F20: 8 | G20: Prestar servicios especializados de Fisioterapeuta y apoyar proyectos institucionales relacionados a su perfil (Discapacidad-Salud Pública), para la Subdirección Técnico-Científica en la gestión del sistema de garantía de calidad, en las instalaciones de la Empresa Social del Estado Centro Dermatológico Federico Lleras Acosta, E.S.E. | H20: 8 MESES | I20: 44622 | J20: ='TOTAL CONTRATOS'!F91 -> 44629 | K20: ='TOTAL CONTRATOS'!G91 -> 44873 | L20: 176 | M20: 44610 | N20: A02020200900301-20 | O20: 213 | P20: 44628 | Q20: 23046400 | R20: a. Un primer pago, correspondiente desde la fecha de inicio de ejecución del contrato hasta el día 20 del mes correspondiente. b. Mensualidades vencidas con corte los días 20 de cada mes. | V20: 0.2 | W20: 0.1 | X20: * | Y20: * | Z20: * | AA20: * | AB20: =+Q20 -> 23046400 | AC20: =+'TOTAL CONTRATOS'!#REF! -> #REF! | AD20: =SUM(AB20-AC20) -> #REF! | AE20: =SUM(AC20*100/AB20) -> #REF! | AF20: =+'TOTAL CONTRATOS'!#REF! -> #REF! | AG20: Subdirector Técnico Cientifico Medico Especialista, Coordinadora Medica | AH20: Fredy Mauricio Avila Marcela Soler Tovar | AI20: 79.372.771 1.032.377.897 | AJ20: x 5 | AK20: Servicio Misional | AM20: Calle 121 No. 48-06 Telefono 3017852728 email: rodriguezpaula @yahoo.com | AN20: NA | AO20: 28810 | AP20: EPS SANITAS | AQ20: COLPENSIONES | AR20: 44629 | AS20: PENDIENTE | AT20: =+K20-J20 -> 244 | AU20: 44614 | AV20: 44617 | AW20: =IF(AV20="ANULADO","ANULADO",NETWORKDAYS.INTL(AU20,AV20)) -> 4 | AX20: APOYO | AY20: FUNCIONAMIENTO | AZ20: 60 | BA20: ='TOTAL CONTRATOS'!#REF! -> #REF! | BB20: 43822 | BC20: ='TOTAL CONTRATOS'!#REF! -> #REF! | BD20: ='TOTAL CONTRATOS'!#REF! -> #REF! | BE20: Convocatoria Directa
A21: 060-2022 | B21: C.P.Servicios Médico Asistenciales | C21: PAOLA ANDREA MACIAS ARIAS | D21: CC | E21: 1032423089 | F21: 8 | G21: Prestar los servicios médicos asistenciales especializados en Dermatología, y participar en actividades académicas en las instalaciones de la Empresa Social del Estado Centro Dermatológico Federico Lleras Acosta, cuando sea convocado (a). | H21: Ocho (8) meses | I21: 44600 | J21: ='TOTAL CONTRATOS'!F63 -> 44602 | K21: ='TOTAL CONTRATOS'!G63 -> 44843 | L21: 117 | M21: 44594 | N21: A02020200900301-20 | O21: 125 | P21: 44596 | Q21: 65000000 | R21: a. Un primer pago, desde la fecha de inicio hasta el día veinte (20) del mes correspondiente. Mensualidades vencidas con corte los días veinte (20) de cada mes. PARAGRAFO: hora consulta y por evento procedimientos, según tarifas establecidas por la Dirección General. | V21: 0.2 | W21: 0.1 | X21: * | Y21: * | Z21: * | AA21: 44694 | AB21: =+Q21 -> 65000000 | AC21: =+'TOTAL CONTRATOS'!#REF! -> #REF! | AD21: =SUM(AB21-AC21) -> #REF! | AE21: =SUM(AC21*100/AB21) -> #REF! | AF21: =+'TOTAL CONTRATOS'!#REF! -> #REF! | AG21: Subdirector (a) Técnico Cientifica (e) Medico Especialista, Coordinadora Medica Jefe Oficina de Docencia e Investigacion | AH21: Alvaro Jose Tovar Cock Marcela Soler Tovar Mauricio Alberto Angel Macias | AI21: 79.238.958 1.032.377.897 79.985.065 | AJ21: 0 5 2 | AK21: Servicio Misional | AM21: Carrera 68C NO.23-31 Bloque 8 Apto. 502 Altagracia Ciudad Salitre Telefono: 3508908062 email: pmdermatologia@gmail.com | AN21: NA | AO21: 32199 | AP21: EPS SANITAS | AQ21: PORVENIR | AR21: 44602 | AS21: PENDIENTE | AT21: =+K21-J21 -> 241 | AU21: 44596 | AV21: 44600 | AW21: =IF(AV21="ANULADO","ANULADO",NETWORKDAYS.INTL(AU21,AV21)) -> 3 | AX21: MISIONAL | AY21: INVERSION | AZ21: 80 | BA21: ='TOTAL CONTRATOS'!#REF! -> #REF! | BB21: 44370 | BC21: ='TOTAL CONTRATOS'!#REF! -> #REF! | BD21: ='TOTAL CONTRATOS'!#REF! -> #REF! | BE21: Convocatoria Directa
A22: 007-2022 | B22: C.P.Servicios Médico Asistenciales | C22: OSCAR DARIO VELASQUEZ SUAREZ | D22: CC | E22: 1032437464 | F22: 1 | G22: Prestar los servicios médicos asistenciales en consulta externa y/o procedimientos en la especialidad de Dermatología, y participar en actividades académicas en las instalaciones de la Empresa Social del Estado Centro Dermatológico Federico Lleras Acosta, cuando sea convocado (a). | H22: 8 MESES | I22: 44575 | J22: ='TOTAL CONTRATOS'!F9 -> 44580 | K22: ='TOTAL CONTRATOS'!G9 -> 44944 | L22: 038 | M22: 44574 | N22: A02020200900301-20 | O22: 30 | P22: 44580 | Q22: 90000000 | R22: a. Un primer pago, desde la fecha de inicio hasta el día veinte (20) del mes correspondiente. Mensualidades vencidas con corte los días veinte (20) de cada mes. PARAGRAFO: hora consulta y por evento procedimientos, según tarifas establecidas por la Dirección General. | V22: 0.2 | W22: 0.1 | X22: * | Y22: * | Z22: * | AA22: 44676 | AB22: =SUM(Q22) -> 90000000 | AC22: =+'TOTAL CONTRATOS'!#REF! -> #REF! | AD22: =SUM(AB22-AC22) -> #REF! | AE22: =SUM(AC22*100/AB22) -> #REF! | AF22: =+'TOTAL CONTRATOS'!#REF! -> #REF! | AG22: Subdirector (a) Técnico Cientifica (e) Medico Especialista, Coordinadora Medica Jefe Oficina de Docencia e Investigacion | AH22: Alvaro Jose Tovar Cock Marcela Soler Tovar Mauricio Alberto Angel Macias | AI22: 79.238.958 1.032.377.897 79.985.065 | AJ22: 0 5 2 | AK22: Servicio Misional | AM22: Carrera 73 A No. 56A_31 Int. 4 Apto. 501 Telefono 3164238390 odvelasquez@gmail.com | AN22: NA | AO22: 33042 | AP22: COMPENSAR | AQ22: PROTECCION | AR22: 44580 | AS22: PENDIENTE | AT22: =+K22-J22 -> 364 | AU22: 44574 | AV22: 44580 | AW22: =IF(AV22="ANULADO","ANULADO",NETWORKDAYS.INTL(AU22,AV22)) -> 5 | AX22: MISIONAL | AY22: FUNCIONAMIENTO | AZ22: 80 | BA22: ='TOTAL CONTRATOS'!#REF! -> #REF! | BB22: 43210 | BC22: ='TOTAL CONTRATOS'!#REF! -> #REF! | BD22: ='TOTAL CONTRATOS'!#REF! -> #REF! | BE22: Convocatoria Directa
A23: 052-2022 | B23: C.P.Servicios | C23: NICOLAS ALONSO CHISCO FONTECHA | D23: CC | E23: 1018509074 | F23: 8 | G23: Prestar los servicios de apoyo técnico a la gestión de la Subdirección Administrativa y Financiera de la E.S.E. Centro Dermatológico “Federico Lleras Acosta” en cada una de sus áreas. | H23: Cuatro (4) meses y veintiocho (28) días | I23: 44594 | J23: ='TOTAL CONTRATOS'!F55 -> 44595 | K23: ='TOTAL CONTRATOS'!G55 -> 44742 | L23: 112 | M23: 44593 | N23: A02020200800309-20 | O23: P | P23: P | Q23: 9748267 | R23: a. Un primer pago, correspondiente desde la fecha de inicio de ejecución del contrato hasta el día 20 del mes correspondiente. b. Mensualidades vencidas con corte los días 20 de cada mes. | V23: 0.2 | W23: 0.1 | X23: * | Y23: * | Z23: * | AA23: * | AB23: =SUM(Q23) -> 9748267 | AC23: =+'TOTAL CONTRATOS'!#REF! -> #REF! | AD23: =SUM(AB23-AC23) -> #REF! | AE23: =SUM(AC23*100/AB23) -> #REF! | AF23: =+'TOTAL CONTRATOS'!#REF! -> #REF! | AG23: Subdirectora Administrativa y Financiera | AH23: Susana Valderrama Forero | AK23: Acta 07 del 01/02/2022 | AM23: Diagonal 51C Sur No. 55-06 Casa venecia Telefono 8170773 email: chisconicoals@gmail.com | AN23: NA | AO23: 36209 | AP23: SALUD TOTAL | AQ23: PROTECCION | AR23: 44503 | AS23: PENDIENTE | AT23: =+K23-J23 -> 147 | AU23: 44497 | AV23: 44502 | AW23: =IF(AV23="ANULADO","ANULADO",NETWORKDAYS.INTL(AU23,AV23)) -> 4 | AX23: APOYO | AY23: FUNCIONAMIENTO | AZ23: 160 | BA23: ='TOTAL CONTRATOS'!#REF! -> #REF! | BB23: 44496 | BC23: ='TOTAL CONTRATOS'!#REF! -> #REF! | BD23: ='TOTAL CONTRATOS'!#REF! -> #REF! | BE23: Convocatoria Directa
A24: 135-2022 | B24: C.P.Servicios | C24: NETUX S.A.S | D24: NIT | E24: 900331794 | F24: 4 | G24: Prestar el servicio de mantenimiento preventivo, correctivo y calibración del sistema de monitoreo digital de telemetría de la E.S.E “Centro Dermatológico Federico Lleras Acosta”. | H24: 6 MESES | I24: 44685 | J24: 44700 | K24: ='TOTAL CONTRATOS'!G135 -> 44883 | L24: 314 | M24: 44676 | N24: A020202008007015-20 | O24: 465 | P24: 44700 | Q24: 25730434 | R24: Un primero pago por valor de $3.400.000 correspondiente al alquiler de 16 equipos el cual se cancela una sola vez durante el tiempo que duren los equipos en el Centro y seis pagos parciales por valor de $3.721.739, por concepto, mantenimiento correctivo, mantenimiento preventivo, calibración de los sensores y el uso del aplicativo “mimonitor” donde se tiene en tiempo real las temperaturas y humedades de los equipos y áreas de control. Presentación de factura e informe de supervisión y certificación de cumplimiento para pagar a treinta (30) días, anexando certificado del pago a los sistemas de seguridad social a los que se encuentra obligada a cotizar. | V24: 0.2 | W24: 0.1 | X24: * | Y24: * | Z24: * | AA24: * | AB24: =SUM(Q24) -> 25730434 | AC24: =+'TOTAL CONTRATOS'!#REF! -> #REF! | AD24: =SUM(AB24-AC24) -> #REF! | AE24: =+AC24*100/AB24 -> #REF! | AF24: =+'TOTAL CONTRATOS'!#REF! -> #REF! | AG24: Subdirector Administrativo y Financiero | AH24: Susana Valderrama Forero | AI24: 51736889 | AJ24: 5 | AK24: Acta 21 del 28 de abril de 2022 | AM24: Circular 3 Av 73 - 34 3176415029 contacto@netuxtecnologia.com | AN24: 1.000 SMLMV | AO24: NA | AP24: NA | AQ24: NA | AR24: NA | AS24: PENDIENTE | AT24: =+K24-J24 -> 183 | AU24: 44675 | AV24: 44684 | AW24: =IF(AV24="ANULADO","ANULADO",NETWORKDAYS.INTL(AU24,AV24)) -> 7 | AX24: APOYO | AY24: FUNCIONAMIENTO | AZ24: NA | BA24: ='TOTAL CONTRATOS'!#REF! -> #REF! | BB24: NA | BC24: ='TOTAL CONTRATOS'!#REF! -> #REF! | BD24: ='TOTAL CONTRATOS'!#REF! -> #REF! | BE24: Convocatoria Directa
A25: 080-2022 | B25: C.P.Servicios Médico Asistenciales | C25: NATHALIA ELENA PLAZA ARTEAGA | D25: CC | E25: 52962594 | F25: 1 | G25: Prestar los servicios médicos asistenciales en consulta externa y/o procedimientos en la especialidad de Dermatología, y participar en actividades académicas en las instalaciones de la Empresa Social del Estado Centro Dermatológico Federico Lleras Acosta, cuando sea convocado (a). | H25: 8 MESES | I25: 44617 | J25: ='TOTAL CONTRATOS'!F82 -> 44624 | K25: ='TOTAL CONTRATOS'!G82 -> 44875 | L25: 167 | M25: 44608 | N25: A02020200900301-20 | O25: 191 | P25: 44623 | Q25: 80000000 | R25: a. Un primer pago, desde la fecha de inicio hasta el día 20 del mes correspondiente. Mensualidades vencidas con corte los días 20 de cada mes. PARAGRAFO: hora consulta y por evento procedimientos, según tarifas establecidas por la Dirección General. | U25: Suspensión 1: 11 al 17 de mayo de 2022, por motivos personal | V25: 0.2 | W25: 0.1 | X25: * | Y25: * | Z25: * | AA25: 44816 | AB25: =+Q25 -> 80000000 | AC25: =+'TOTAL CONTRATOS'!#REF! -> #REF! | AD25: =SUM(AB25-AC25) -> #REF! | AE25: =SUM(AC25*100/AB25) -> #REF! | AF25: =+'TOTAL CONTRATOS'!#REF! -> #REF! | AG25: Subdirector Técnico Cientifico Medico Especialista, Coordinadora Medica Profesional Especializada, Coordinador del Grupo de Enfermeria (C.Interna 55963 del 29 de ocy/21) | AH25: Fredy Mauricio Avila Marcela Soler Tovar Mauricio Alberto Angel Macias | AI25: 79.372.771 1.032.377.897 79.985.065 | AJ25: x 5 2 | AK25: Servicio Misional | AM25: Calle 150A N. 50-20 Ap 303 Victoria Norte Telefónos 6254968 - 3105854681 Email: natplaza@hotmail.com | AN25: NA | AO25: 30083 | AP25: ALIANSALUD EPS SA | AQ25: COLPENSIONES | AR25: 44624 | AS25: PENDIENTE | AT25: =+K25-J25 -> 251 | AU25: 44613 | AV25: 44617 | AW25: =IF(AV25="ANULADO","ANULADO",NETWORKDAYS.INTL(AU25,AV25)) -> 5 | AX25: MISIONAL | AY25: INVERSION | AZ25: 80 | BA25: ='TOTAL CONTRATOS'!#REF! -> #REF! | BB25: 43838 | BC25: ='TOTAL CONTRATOS'!#REF! -> #REF! | BD25: ='TOTAL CONTRATOS'!#REF! -> #REF! | BE25: Convocatoria Directa
A26: 143-2022 | B26: C.P.Servicios Médico Asistenciales | C26: NATHALIA CORREA VELEZ | D26: CC | E26: 1130605015 | F26: 0 | G26: Prestar los servicios médicos asistenciales en consulta externa y/o procedimientos en la especialidad de Dermatología, y participar en actividades académicas en las instalaciones de la Empresa Social del Estado Centro Dermatológico Federico Lleras Acosta, cuando sea convocado (a) | H26: 5 MESES | I26: 44698 | J26: ='TOTAL CONTRATOS'!F143 -> 44699 | K26: ='TOTAL CONTRATOS'!G143 -> 44851 | L26: ='TOTAL CONTRATOS'!H143 -> 303 | M26: ='TOTAL CONTRATOS'!I143 -> 44670 | N26: ='TOTAL CONTRATOS'!J143 -> A02020200900301-20 | O26: ='TOTAL CONTRATOS'!K143 -> 450 | P26: ='TOTAL CONTRATOS'!L143 -> 44699 | Q26: 30000000 | R26: a. Un primer pago, correspondiente desde la fecha de inicio de ejecución del contrato hasta el día 20 del mes correspondiente, previa presentación de la cuenta de cobro y/o factura e informe de supervisión y certificación de cumplimiento con los anexos referidos al pago a los sistemas de seguridad social a los que se encuentra obligada (o) a cotizar. b. Mensualidades vencidas con corte los días 20 de cada mes, previa presentación de la cuenta de cobro y/o factura e informe de supervisión certificación y cumplimiento expedido por la supervisora, el cual deberá acompañarse por los soportes antes referidos en el literal a). PARÁGRAFO PRIMERO: EL CENTRO cancelará la prestación de los servicios al CONTRATISTA, para lo cual tendrá en cuenta el número de pacientes atendidos por hora en consulta, y por evento se tendrá en cuenta el número y tipo de procedimientos, según tarifas establecidas por la Dirección General. La asistencia a Ateneo será reconocida sí cumple con 20 horas asistenciales semanales. PARÁGRAFO SEGUNDO: Los pagos están sujetos a la presentación de la cuenta de cobro y del formato PA-CDJ-FO-011 Informe de supervisión y certificación de cumplimiento de contrato u orden, con los anexos referidos al pago a los sistemas de seguridad social a los que se encuentra obligado (a) a cotizar). | V26: 0.2 | W26: 0.1 | X26: * | Y26: * | Z26: * | AA26: 44925 | AB26: =+Q26 -> 30000000 | AC26: =+'TOTAL CONTRATOS'!#REF! -> #REF! | AD26: =+AB26-AC26 -> #REF! | AE26: =+AC26*100/AB26 -> #REF! | AF26: =+'TOTAL CONTRATOS'!#REF! -> #REF! | AG26: Medico Especialista, Coordinadora Medica Subdirector Técnico Cientifico Jefe Oficina de Docencia e Investigacion (E) | AH26: Marcela Soler Tovar Mauricio Molina Achury Zulma Lorena Alvarado Alvarez | AI26: 1032377897 79368488 52075120 | AJ26: 5 8 7 | AK26: Servicio Misional | AM26: Calle 147 # 12 - 52 Apto 120 - Torre 1 Cel. 3216398910 ncorreavelez@gmail.com | AN26: NA | AO26: 31527 | AP26: Sanitas | AQ26: Colpensiones | AR26: 44699 | AS26: PENDIENTE | AT26: =+K26-J26 -> 152 | AU26: 44678 | AV26: 44684 | AW26: =IF(AV26="ANULADO","ANULADO",NETWORKDAYS.INTL(AU26,AV26)) -> 5 | AX26: MISIONAL | AY26: FUNCIONAMIENTO | AZ26: 40 | BA26: UNIVERSIDAD DEL ROSARIO Médica y Cirujana (19/01/2011) RETHUS - MEDICINA FUNDACIÓN UNIVERSITARIA DE CIENCIAS DE LA SALUD - FUCS Especialista en Dermatología (16/08/2019) Especialista en Epidemiología Clínica (17/08/2018) RETHUS - ESPECIALIZACIÓN EN EPIDEMIOLOGIA CLINICA ESPECIALIZACIÓN EN DERMATOLOGIA HOSPITLA MILITAR CENTRAL Atención Integral en Salud a Víctimas de Violencia Sexual (19/01/2022) FUNDACIÓN INTERAMERICANA DEL CORAZON Reanimación Basica para profesionales de la Salud (nov/2020) Programa de apoyo Vital Cardiovascular Avanzado (nov/2020) TRIBUNAL NACIONAL DE ETICA MEDICA (Certificacion del Sisteman de Informacion de Registro de Sanciones del Tribunal Nacional de Etica Medica) | BB26: 44579 | BC26: ='TOTAL CONTRATOS'!#REF! -> #REF! | BD26: ='TOTAL CONTRATOS'!#REF! -> #REF! | BE26: Convocatoria Directa
A27: 048-2022 | B27: C.P.Servicios Médico Asistenciales | C27: MONICA PAOLA NOVOA CANDIA | D27: CC | E27: 52884342 | F27: 6 | G27: Prestar servicios médicos asistenciales especializados en Dermatología General y Dermato-Pediatría, y participar en actividades académicas en las instalaciones de la Empresa Social del Estado Centro Dermatológico Federico Lleras Acosta, cuando sea convocado | H27: 8 MESES | I27: 44593 | J27: ='TOTAL CONTRATOS'!F51 -> 44595 | K27: ='TOTAL CONTRATOS'!G51 -> 44836 | L27: 064 | M27: 44579 | N27: A02020200900301-20 | O27: 103 | P27: 44595 | Q27: 35000000 | R27: a. Un primer pago, correspondiente desde la fecha de inicio de ejecución del contrato hasta el día 20 del mes correspondiente, previa presentación de la cuenta de cobro y/o factura e informe de supervisión y certificación de cumplimiento con los anexos referidos al pago a los sistemas de seguridad social a los que se encuentra obligada (o) a cotizar. b. Mensualidades vencidas con corte los días 20 de cada mes, previa presentación de la cuenta de cobro y/o factura e informe de supervisión y certificación de cumplimiento expedido por el (los) supervisor (es), el cual deberá acompañarse por los soportes antes referidos en el literal a). PARAGRAFO: EL CENTRO cancelará la prestación de los servicios a la CONTRATISTA, para lo cual tendrá en cuenta el número de pacientes atendidos por hora en consulta, y por evento se tendrá en cuenta el número y tipo de procedimientos, según tarifas establecidas por la Directora General. La asistencia a Ateneo será reconocida sí cumple con 20 horas asistenciales semanales. | V27: 0.2 | W27: 0.1 | X27: * | Y27: * | Z27: * | AB27: =+Q27 -> 35000000 | AC27: =+'TOTAL CONTRATOS'!#REF! -> #REF! | AD27: =SUM(AB27-AC27) -> #REF! | AE27: =SUM(AC27*100/AB27) -> #REF! | AF27: =+'TOTAL CONTRATOS'!#REF! -> #REF! | AG27: Subdirectora Técnico Cientifica (e) Medico Especialista, Coordinadora Medica (C.I. 46313 15 de junio /21) Jefe Oficina de Docencia e Investigacion | AH27: Alvaro Jose Tovar Cock Marcela Soler Tovar Mauricio Alberto Angel Macias | AI27: 79.238.958 1.032.377.897 79.985.065 | AJ27: 0 5 2 | AK27: Servicio Misional | AM27: ='TOTAL CONTRATOS'!#REF! -> #REF! | AN27: NA | AO27: 29941 | AP27: COMPENSAR EPS | AQ27: COLPENSIONES | AR27: 44595 | AS27: PENDIENTE | AT27: =+K27-J27 -> 241 | AU27: 44583 | AV27: 44593 | AW27: =IF(AV27="ANULADO","ANULADO",NETWORKDAYS.INTL(AU27,AV27)) -> 7 | AX27: MISIONAL | AY27: INVERSION | BA27: ='TOTAL CONTRATOS'!#REF! -> #REF! | BB27: 43844 | BC27: ='TOTAL CONTRATOS'!#REF! -> #REF! | BD27: ='TOTAL CONTRATOS'!#REF! -> #REF! | BE27: Convocatoria Directa
